BEGIN:VCALENDAR
PRODID:-//eluceo/ical//2.0/EN
VERSION:2.0
CALSCALE:GREGORIAN
BEGIN:VEVENT
UID:event-431
DTSTAMP:20260425T034154Z
SUMMARY:Tour de Rotterdam
DESCRIPTION:Op dinsdag 12 mei zullen we afreizen naar Rotterdam voor Tou
 r de Rotterdam! Tijdens dit gemengde kantoorbezoek zullen we eerst afreize
 n naar Loyens &amp\; Loeff en vervolgens zullen we de middag afsluiten bi
 j EY. Er wordt voor een lunch en de borrel gezorgd! De dresscode van dit e
 venement zal business casual zijn.
DTSTART:20260512T070000Z
DTEND:20260512T150000Z
END:VEVENT
BEGIN:VTIMEZONE
TZID:UTC
BEGIN:STANDARD
DTSTART:20260512T070000
TZNAME:UTC
TZOFFSETTO:+0000
TZOFFSETFROM:+0000
END:STANDARD
END:VTIMEZONE
END:VCALENDAR
