BEGIN:VCALENDAR
PRODID:-//eluceo/ical//2.0/EN
VERSION:2.0
CALSCALE:GREGORIAN
BEGIN:VEVENT
UID:event-381
DTSTAMP:20260421T100655Z
SUMMARY:VTO Pereira 
DESCRIPTION:Tijdens het VTO-traject gaan we op dinsdag 4 november langs 
 bij Pereira. Het is mogelijk om je slechts voor dit evenement in te schri
 jven. 
DTSTART:20251104T120000Z
DTEND:20251104T170000Z
END:VEVENT
BEGIN:VTIMEZONE
TZID:UTC
BEGIN:STANDARD
DTSTART:20251104T120000
TZNAME:UTC
TZOFFSETTO:+0000
TZOFFSETFROM:+0000
END:STANDARD
END:VTIMEZONE
END:VCALENDAR
