BEGIN:VCALENDAR
PRODID:-//eluceo/ical//2.0/EN
VERSION:2.0
CALSCALE:GREGORIAN
BEGIN:VEVENT
UID:event-371
DTSTAMP:20260421T083653Z
SUMMARY:Hockeytoernooi
DESCRIPTION:Na alle borrels van de afgelopen weken is het nu tijd voor een 
 sportieve activiteit\, namelijk het hockeytoernooi! Het toernooi zal van 1
 4:00 tot 17:00 uur duren. Daarna zullen we afsluiten met eten bij de Olymp
 ia Sports Bar. De eigen bijdrage is €10\,-  De inschrijvingen sluiten 
 op 4 september om 23:00 uur.
DTSTART:20250911T120000Z
DTEND:20250911T180000Z
LOCATION:Hockeyvereniging SHOT
END:VEVENT
BEGIN:VTIMEZONE
TZID:UTC
BEGIN:STANDARD
DTSTART:20250911T120000
TZNAME:UTC
TZOFFSETTO:+0000
TZOFFSETFROM:+0000
END:STANDARD
END:VTIMEZONE
END:VCALENDAR
