BEGIN:VCALENDAR
PRODID:-//eluceo/ical//2.0/EN
VERSION:2.0
CALSCALE:GREGORIAN
BEGIN:VEVENT
UID:event-322
DTSTAMP:20260421T083417Z
SUMMARY:Wettenbundelborrel
DESCRIPTION:Op 18 februari is het tijd voor de wettenbundelborrel i.s.m.
  Loyens &amp\; Loeff. Hier worden de nieuwe wettenbundels uitgereikt ond
 er het genot van een drankje bij de Heuvel Gallery. De borrel zal aanvang
 en om 20:30 uur.
DTSTART:20250218T200000Z
DTEND:20250218T225959Z
END:VEVENT
BEGIN:VTIMEZONE
TZID:UTC
BEGIN:STANDARD
DTSTART:20250218T200000
TZNAME:UTC
TZOFFSETTO:+0000
TZOFFSETFROM:+0000
END:STANDARD
END:VTIMEZONE
END:VCALENDAR
