BEGIN:VCALENDAR
PRODID:-//eluceo/ical//2.0/EN
VERSION:2.0
CALSCALE:GREGORIAN
BEGIN:VEVENT
UID:event-224
DTSTAMP:20260419T172757Z
SUMMARY:Bedrijvendag
DESCRIPTION:Dit jaar zal de 31e Tilburgse Fiscale Bedrijvendag plaatsvind
 en op dinsdag 5 maart 2024 in het Koning Willem II Stadion. Dé dag voor
  de fiscale student aan Tilburg University. Er zullen maar liefst 19 pote
 ntiële fiscale werkgevers aanwezig zijn\, zodat jij de kans krijgt om he
 n beter te leren kennen. We zullen de dag aftrappen met een interessant o
 peningswoord van Mart van Hulten. Er zullen vervolgens twee bedrijvenrond
 es plaatsvinden waar verschillende kantoren je een kijkje geven in hun be
 drijf. Na deze bedrijvenrondes zal de eerste workshop zijn.Hierna vindt er
  een heerlijke driegangenlunch plaats\, waarbij het mogelijk is om vast in
  contact te komen met bedrijven. Na de lunch zullen er nog twee bedrijvenr
 ondes zijn en tot slot zal er nog een workshop zijn.  Ook heb je de moge
 lijkheid om in gesprek te gaan met de aanwezige kantoren. Tijdens deze ges
 prekken kun je allerlei vragen stellen aan fiscale medewerkers die al (jar
 en) in de praktijk werkzaam zijn\, waardoor je je kunt oriënteren op even
 tuele werkstudentschappen of stages om fiscale vakkennis op te doen. Missc
 hien sleep je zelfs wel dat fantastische werkstudentschap of die mega leuk
 e stage binnen! De dag wordt afgesloten met een netwerkborrel! De uiterste
  inschrijfdatum voor de kennismakingsgesprekken is 15 februari. Niet-leden
  kunnen contact opnemen met bestuur@smeetskring.com om zich voor deze dag
  aan te melden. Deelname aan deze dag kost: Voor leden: €7\,50 Voor niet
 -leden: €10.- Bij bevestiging van inschrijving ga jij akkoord met de alg
 emene voorwaarden. De dresscode voor de bedrijvendag zal business formal 
 zijn.
DTSTART:20240305T080000Z
DTEND:20240305T173000Z
LOCATION:Koning Willem II Stadion
END:VEVENT
BEGIN:VTIMEZONE
TZID:UTC
BEGIN:STANDARD
DTSTART:20240305T080000
TZNAME:UTC
TZOFFSETTO:+0000
TZOFFSETFROM:+0000
END:STANDARD
END:VTIMEZONE
END:VCALENDAR
