BEGIN:VCALENDAR
PRODID:-//eluceo/ical//2.0/EN
VERSION:2.0
CALSCALE:GREGORIAN
BEGIN:VEVENT
UID:event-155
DTSTAMP:20260420T003541Z
SUMMARY:Huifkarcantus
DESCRIPTION:Na de TUC en de COdE staat de volgende cantus alweer op de plan
 ning. Ditmaal zullen we niet afreizen naar een locatie\, maar zullen we al
  rijdende in een huifkar wat heerlijke goudgele rakkers naar binnen werken
 . Dit onder het genot van het gezang van de deelnemers. Een succesformule 
 voor heel veel gezelligheid! Deze cantus zal plaatsvinden op 13 april om
  20:00 uur.  Deelname kost €7\,50 en zal middels incasso geïnd word
 en. De inschrijvingen openen 30 maart om 16:00 uur.
DTSTART:20230413T173000Z
DTEND:20230413T193000Z
END:VEVENT
BEGIN:VTIMEZONE
TZID:UTC
BEGIN:STANDARD
DTSTART:20230413T173000
TZNAME:UTC
TZOFFSETTO:+0000
TZOFFSETFROM:+0000
END:STANDARD
END:VTIMEZONE
END:VCALENDAR
