BEGIN:VCALENDAR
PRODID:-//eluceo/ical//2.0/EN
VERSION:2.0
CALSCALE:GREGORIAN
BEGIN:VEVENT
UID:event-130
DTSTAMP:20260422T175939Z
SUMMARY:Masterclass
DESCRIPTION:Op woensdag 19 april vindt de masterclass plaats in Van der V
 alk Hotel in Tilburg met als thema "Onroerende zaken: dat zit fiscaal va
 st goed?". De dagvoorzitter zal Barry Willemsen zijn. De dag begint om 
 12.45 uur\, en zal eindigen rond 21:00 uur. De kantoren zullen achtereenv
 olgend spreken over het onderwerp van de dag: Vastgoed. Afsluitend zal er 
 een driegangendiner en borrel zijn met de aanwezige kantoren. De eigen bij
 drage is €4\,- voor leden en €6\,- voor niet-leden. Niet-leden kunn
 en mailen naar bestuur@smeetskring.com
DTSTART:20230419T104500Z
DTEND:20230419T190000Z
END:VEVENT
BEGIN:VTIMEZONE
TZID:UTC
BEGIN:STANDARD
DTSTART:20230419T104500
TZNAME:UTC
TZOFFSETTO:+0000
TZOFFSETFROM:+0000
END:STANDARD
END:VTIMEZONE
END:VCALENDAR
