BEGIN:VCALENDAR
PRODID:-//eluceo/ical//2.0/EN
VERSION:2.0
CALSCALE:GREGORIAN
BEGIN:VEVENT
UID:event-102
DTSTAMP:20260424T220754Z
SUMMARY:Studiereis
DESCRIPTION:Donderdag 23 maart vertrekken wij naar New York. 31 maart vl
 iegen we weer terug\, we zullen op 1 april landen in Nederland. In New Yor
 k zullen wij zowel formele als informele activiteiten ondernemen. Teve
 ns zal je de mogelijkheid krijgen om op eigen houtje de stad te verkennen
 !  Deadline voor inschrijven is 15 november 2022. De kosten voor deeln
 ame aan de studiereis bedragen €900\,-.   Dit is inclusief: Vlucht na
 ar New York Verblijf Diner Excursies Inschrijving betekent niet per defini
 tie deelname aan de studiereis. Indien er meer inschrijvingen dan plekken
  zijn\, zal er via loting bepaald worden wie mee mag.  Slides met toeli
 chting van de informatiesessie zijn hier te vinden. 
DTSTART:20230322T230000Z
DTEND:20230331T220000Z
END:VEVENT
BEGIN:VTIMEZONE
TZID:UTC
BEGIN:STANDARD
DTSTART:20230322T230000
TZNAME:UTC
TZOFFSETTO:+0000
TZOFFSETFROM:+0000
END:STANDARD
END:VTIMEZONE
END:VCALENDAR
